BEGIN:VCALENDAR
VERSION:2.0
PRODID:-//Ocala Style Magazine - ECPv6.0.8//NONSGML v1.0//EN
CALSCALE:GREGORIAN
METHOD:PUBLISH
X-WR-CALNAME:Ocala Style Magazine
X-ORIGINAL-URL:https://www.ocalastyle.com
X-WR-CALDESC:Events for Ocala Style Magazine
REFRESH-INTERVAL;VALUE=DURATION:PT1H
X-Robots-Tag:noindex
X-PUBLISHED-TTL:PT1H
BEGIN:VTIMEZONE
TZID:America/New_York
BEGIN:DAYLIGHT
TZOFFSETFROM:-0500
TZOFFSETTO:-0400
TZNAME:EDT
DTSTART:20190310T070000
END:DAYLIGHT
BEGIN:STANDARD
TZOFFSETFROM:-0400
TZOFFSETTO:-0500
TZNAME:EST
DTSTART:20191103T060000
END:STANDARD
END:VTIMEZONE
BEGIN:VEVENT
DTSTART;TZID=America/New_York:20190105T090000
DTEND;TZID=America/New_York:20190105T140000
DTSTAMP:20260422T020732
CREATED:20190107T133401Z
LAST-MODIFIED:20190107T133842Z
UID:8059-1546678800-1546696800@www.ocalastyle.com
SUMMARY:Ocala Downtown Market
DESCRIPTION:Come out to enjoy a celebration of local produce\, crafts\, and food trucks! Just around the corner from the square\, the open-air market pavilion hosts a wide variety of local and regional vendors offering unique and quality products. The Ocala Downtown Market (ODM) is the place where a diverse array of farmers\, artisans\, craftspeople\, and food trucks come together to sell their products to customers from Ocala\, Marion County\, and beyond. A true destination location\, ODM is set just blocks off of the Ocala Downtown Square\, in a beautiful open-air Market Pavilion. Besides permanent roof cover\, the facility also includes large overhead fans\, restrooms\, a nearby ATM\, and water fountains.\nVendors have a variety of booth choices to choose from\, including both indoor and outdoor\, booths with water and/or electric\, and more! \nThe Market is held on Saturdays from 9am until 2pm. It is the vision of the City of Ocala (which owns the facility) and Ocala Downtown Market\, Inc. to see the Market add additional days in the future. This expansion in the number of days and hours the Market is open is expected to occur gradually\, over the span of a few years.
URL:https://www.ocalastyle.com/event/ocala-downtown-market/2019-01-05/
LOCATION:Ocala Downtown Market\, 310 SE 3rd St\, Ocala\, FL\, 34471\, United States
END:VEVENT
END:VCALENDAR