BEGIN:VCALENDAR
VERSION:2.0
PRODID:-//Ocala Style Magazine - ECPv6.0.8//NONSGML v1.0//EN
CALSCALE:GREGORIAN
METHOD:PUBLISH
X-ORIGINAL-URL:https://www.ocalastyle.com
X-WR-CALDESC:Events for Ocala Style Magazine
REFRESH-INTERVAL;VALUE=DURATION:PT1H
X-Robots-Tag:noindex
X-PUBLISHED-TTL:PT1H
BEGIN:VTIMEZONE
TZID:America/New_York
BEGIN:DAYLIGHT
TZOFFSETFROM:-0500
TZOFFSETTO:-0400
TZNAME:EDT
DTSTART:20190310T070000
END:DAYLIGHT
BEGIN:STANDARD
TZOFFSETFROM:-0400
TZOFFSETTO:-0500
TZNAME:EST
DTSTART:20191103T060000
END:STANDARD
END:VTIMEZONE
BEGIN:VEVENT
DTSTART;TZID=America/New_York:20190208T080000
DTEND;TZID=America/New_York:20190208T170000
DTSTAMP:20260419T184238
CREATED:20190208T193819Z
LAST-MODIFIED:20190208T193819Z
UID:8574-1549612800-1549645200@www.ocalastyle.com
SUMMARY:Ocala Winter I Horse Trials
DESCRIPTION:The Florida Agriculture & Horse Park Authority is a 500-acre facility that holds events of all kinds. Join them for a day of spectating all that Ocala’s equestrian community has to offer.
URL:https://www.ocalastyle.com/event/ocala-winter-i-horse-trials/2019-02-08/
LOCATION:Florida Horse Park\, 11008 South Hwy 475\, Ocala\, FL\, 34480\, United States
ORGANIZER;CN="Florida%20Horse%20Park":MAILTO:events@flhorsepark.com
END:VEVENT
END:VCALENDAR