BEGIN:VCALENDAR
VERSION:2.0
PRODID:-//Ocala Style Magazine - ECPv6.0.8//NONSGML v1.0//EN
CALSCALE:GREGORIAN
METHOD:PUBLISH
X-WR-CALNAME:Ocala Style Magazine
X-ORIGINAL-URL:https://www.ocalastyle.com
X-WR-CALDESC:Events for Ocala Style Magazine
REFRESH-INTERVAL;VALUE=DURATION:PT1H
X-Robots-Tag:noindex
X-PUBLISHED-TTL:PT1H
BEGIN:VTIMEZONE
TZID:America/New_York
BEGIN:DAYLIGHT
TZOFFSETFROM:-0500
TZOFFSETTO:-0400
TZNAME:EDT
DTSTART:20200308T070000
END:DAYLIGHT
BEGIN:STANDARD
TZOFFSETFROM:-0400
TZOFFSETTO:-0500
TZNAME:EST
DTSTART:20201101T060000
END:STANDARD
END:VTIMEZONE
BEGIN:VEVENT
DTSTART;TZID=America/New_York:20200228T170000
DTEND;TZID=America/New_York:20200228T183000
DTSTAMP:20260422T053106
CREATED:20200124T201820Z
LAST-MODIFIED:20200124T201820Z
UID:20669-1582909200-1582914600@www.ocalastyle.com
SUMMARY:The Moody Blues’ John Lodge Performs Classic Moody Blues Hits
DESCRIPTION:John Lodge\, legendary vocalist\, songwriter and bass player of THE MOODY BLUES\, and recent inductee into the Rock and Roll Hall of Fame\, is bringing his ‘Classic Moody Blues’ tour to The Villages. During his remarkable 52 years with The Moody Blues\, Lodge sold more than 70 million albums\, and composed many of their greatest hits. \nThis not-to-be-missed show is full of beautifully crafted songs\, great energy and sound\, and a fantastic atmosphere that will ‘bring the audience to their feet!’ Experience this ‘rock legend’ perform all his fantastic hits in an intimate setting\, up close and personal. Hits such as “I’m Just A Singer (in a Rock and Roll Band)\,” “Ride My Seesaw\,” “Isn’t Life Strange\,” “Gemini Dream\,” and many more.
URL:https://www.ocalastyle.com/event/the-moody-blues-john-lodge-performs-classic-moody-blues-hits-2/2020-02-28/
LOCATION:The Savannah Center\, 1575 Buena Vista Blvd\, The Villages\, FL 32162\, The Villages\, FL\, United States
ORGANIZER;CN="The%20Villages%20Entertainment":MAILTO:entertainment.events@thevillages.com
END:VEVENT
END:VCALENDAR