BEGIN:VCALENDAR
VERSION:2.0
PRODID:-//Ocala Style Magazine - ECPv6.0.8//NONSGML v1.0//EN
CALSCALE:GREGORIAN
METHOD:PUBLISH
X-ORIGINAL-URL:https://www.ocalastyle.com
X-WR-CALDESC:Events for Ocala Style Magazine
REFRESH-INTERVAL;VALUE=DURATION:PT1H
X-Robots-Tag:noindex
X-PUBLISHED-TTL:PT1H
BEGIN:VTIMEZONE
TZID:America/New_York
BEGIN:DAYLIGHT
TZOFFSETFROM:-0500
TZOFFSETTO:-0400
TZNAME:EDT
DTSTART:20190310T070000
END:DAYLIGHT
BEGIN:STANDARD
TZOFFSETFROM:-0400
TZOFFSETTO:-0500
TZNAME:EST
DTSTART:20191103T060000
END:STANDARD
BEGIN:DAYLIGHT
TZOFFSETFROM:-0500
TZOFFSETTO:-0400
TZNAME:EDT
DTSTART:20200308T070000
END:DAYLIGHT
BEGIN:STANDARD
TZOFFSETFROM:-0400
TZOFFSETTO:-0500
TZNAME:EST
DTSTART:20201101T060000
END:STANDARD
END:VTIMEZONE
BEGIN:VEVENT
DTSTART;TZID=America/New_York:20200404T070000
DTEND;TZID=America/New_York:20200404T110000
DTSTAMP:20260422T154050
CREATED:20200129T145228Z
LAST-MODIFIED:20200129T145228Z
UID:21820-1585983600-1585998000@www.ocalastyle.com
SUMMARY:7th Annual Schoolhouse Hustle 5K/10K/1-Mile Walk for Chalk
DESCRIPTION:Details:\nhttp://www.schoolhousehustle.com\nhttp://www.facebook.com/schoolhousehustle \n7th Annual Race Event – Citrus County’s largest!\n5K & 10K with custom Finisher Medals for every runner.\nProfessionally managed by DRC Sports.\nAwards 3-deep in 9 age groups (including 5 for those under 18 years).\nTech shirts for adult sizes\, comfy cotton for kids.\nVirtual Entry available… sleep in\, run on your own time and still get the bling!\nEarly Packet Pickup set for night before at Gulf to Lake Marine in Lecanto.\nCitrus County’s largest charity Walk and race event.\n‘Field Trip’ option for all elementary schools includes transportation.\n“Walk for Chalk” with Superintendent Himmel and other local education & community leaders.\nFamily Health Expo – Health\, Education\, Safety\, and other youth-oriented Community vendors.\nYMCA Kids Zone – FREE childcare for runners and walkers\, games and snacks. Kids 3+ (potty-trained).\nThe “County’s BIGGEST Pep Rally” with bands and cheerleaders.\nMascot Olympics – Our goal is for all schools to be represented!\nHustle Hunt – Scavenger Hunt through the Health Expo for drawings and prizes.\nSpirit Contests\, Music\, Kona Ice truck.\nGroup Challenge – Community Organizations and Businesses encouraged to sign up as a group. Prize for most attendees!\nFree Photo – All finishers.\nUpgrade to Long-sleeved tech shirt for $5.\nCenter of the County with plenty of parking.\nA great family morning celebrating our school children and our community. \nCharity:\nBenefits the Citrus County Education Foundation\, the only local 501(c)(3) dedicated solely to the support of Citrus County’s 15\,000 public school students and 1\,000 teachers.\nhttp://www.citruseducation.org \nContact:\nTracy Bryson\ntracybb@tampabay.rr.com\n352.586.3396
URL:https://www.ocalastyle.com/event/7th-annual-schoolhouse-hustle-5k-10k-1-mile-walk-for-chalk/
LOCATION:CREST School/Lecanto Educational Complex\, 2600 S Panther Pride Drive\, Lecanto\, FL\, 34461\, United States
ORGANIZER;CN="Citrus%20County%20Education%20Foundation":MAILTO:admin@citruseducation.org
END:VEVENT
BEGIN:VEVENT
DTSTART;TZID=America/New_York:20190521T180000
DTEND;TZID=America/New_York:20190608T210000
DTSTAMP:20260422T154050
CREATED:20190521T202000Z
LAST-MODIFIED:20190521T204930Z
UID:10821-1558461600-1560027600@www.ocalastyle.com
SUMMARY:First Five Years Gala
DESCRIPTION:The Early Learning Coalition of Orange County invites you to our Annual First Five Years Gala at EPCOT’s World ShowPlace Pavilion. This upcoming gala will be special as we embark upon 20 years of dedicated service to the Orange County community and celebrate as the first class of VPK students graduate from high school! \nThe gala is a celebration of the services and programs that the Coalition provides to help Orange County’s children enter kindergarten “ready to learn.” The event will include live music performances\, a fine-dining experience and a silent auction. \nAbout the Early Learning Coalition of Orange County  \nThe Coalition helps ensure that children ages birth to five are receiving the well-rounded experiences they need to achieve future success. We do this by working to impact all aspects of the early care environment: assuring quality standards for childcare centers\, helping teachers achieve their national certification\, and working with parents to ensure a healthy and positive home life. \nFor every $1 raised at the event\, the Coalition will receive $15.67 in state and federal funding. Tickets can be purchased at http://elcoforangecounty.org/first-five-years-gala/.
URL:https://www.ocalastyle.com/event/first-five-years-gala/
LOCATION:EPCOT’s World Showplace Pavilion\, 1910 Avenue of the Stars\, Orlando\, FL\, 32836\, United States
ORGANIZER;CN="Early%20Learning%20Coalition%20of%20Orange%20County":MAILTO:pr-orl2@andbarr.co
END:VEVENT
END:VCALENDAR