BEGIN:VCALENDAR
VERSION:2.0
PRODID:-//Ocala Style Magazine - ECPv6.0.8//NONSGML v1.0//EN
CALSCALE:GREGORIAN
METHOD:PUBLISH
X-ORIGINAL-URL:https://www.ocalastyle.com
X-WR-CALDESC:Events for Ocala Style Magazine
REFRESH-INTERVAL;VALUE=DURATION:PT1H
X-Robots-Tag:noindex
X-PUBLISHED-TTL:PT1H
BEGIN:VTIMEZONE
TZID:America/New_York
BEGIN:DAYLIGHT
TZOFFSETFROM:-0500
TZOFFSETTO:-0400
TZNAME:EDT
DTSTART:20190310T070000
END:DAYLIGHT
BEGIN:STANDARD
TZOFFSETFROM:-0400
TZOFFSETTO:-0500
TZNAME:EST
DTSTART:20191103T060000
END:STANDARD
BEGIN:DAYLIGHT
TZOFFSETFROM:-0500
TZOFFSETTO:-0400
TZNAME:EDT
DTSTART:20200308T070000
END:DAYLIGHT
BEGIN:STANDARD
TZOFFSETFROM:-0400
TZOFFSETTO:-0500
TZNAME:EST
DTSTART:20201101T060000
END:STANDARD
END:VTIMEZONE
BEGIN:VEVENT
DTSTART;TZID=America/New_York:20190103T090000
DTEND;TZID=America/New_York:20191226T100000
DTSTAMP:20260421T224332
CREATED:20190808T160750Z
LAST-MODIFIED:20190913T183515Z
UID:13600-1546506000-1577354400@www.ocalastyle.com
SUMMARY:Baking class
DESCRIPTION:Call one week in advance for current recipe and learn how to bake with us! Everyone pitches in to bring ingredients. Enjoy the smells and tastes of your very own dish. Call Grace Huffman at (352) 629-8357 for information.\nJan 3\, 2019 to Dec 26\, 2019\nEach Thu 9am to 10am.\nMen and woman ages 50+
URL:https://www.ocalastyle.com/event/baking-class/
LOCATION:Barbara Gaskin Washinton Adult Activity Center\, 210 NW 12th Ave\, ocala\, FL\, 34475\, United States
END:VEVENT
BEGIN:VEVENT
DTSTART;TZID=America/New_York:20190221T170000
DTEND;TZID=America/New_York:20190221T220000
DTSTAMP:20260421T224332
CREATED:20190208T213810Z
LAST-MODIFIED:20190208T213810Z
UID:8595-1550768400-1550786400@www.ocalastyle.com
SUMMARY:Trinity Catholic High School Winter Carnival
DESCRIPTION:This family-friendly annual community event features midway rides for all ages from enchanting kiddie rides to exhilarating thrill rides\, carnival games and favorite fair food. \nCarnival parking and admission are free. Unlimited ride wristbands (for riders 36 inches and taller) are $30 at the event on Thursday and Sunday only. Pre-sale wristbands\, valid any one day\, are $20 online before 3 pm Thurs.\, Feb. 21. Ride tickets (valid every day) are $1.50 each\, $25 for 20 tickets\, or $50 for 50 tickets plus 1 free ride. (Rides take 2 or more tickets each.) Visit the website for coupon savings. \nCarnival hours are 5-10 pm Thursday\, 5-11 pm Friday\, 11 am – 11 pm Saturday\, and 11 am – 9 pm Sunday. \nFor more information\, call 866-666-3247.
URL:https://www.ocalastyle.com/event/trinity-catholic-high-school-winter-carnival/2019-02-21/
LOCATION:Trinity Catholic High School\, 2600 SW 42nd St\, Ocala\, FL\, 34471\, United States
ORGANIZER;CN="Trinity%20Catholic%20High%20School":MAILTO:dhartley@tchs.us
END:VEVENT
BEGIN:VEVENT
DTSTART;TZID=America/New_York:20190226T170000
DTEND;TZID=America/New_York:20190226T210000
DTSTAMP:20260421T224333
CREATED:20190130T212039Z
LAST-MODIFIED:20190130T212039Z
UID:8597-1551200400-1551214800@www.ocalastyle.com
SUMMARY:Annual King of the Wing Cook Off
DESCRIPTION:Children tickets are $15 in advance and $20 at the door. Adult tickets are $25 in advance and $35.00 at the door. \nVIP Ticket Includes: \nAccess To Private VIP Area\nFast Pass to Wings\nDrink Pass\nPlease join us for the annual King Of the Wing Event Benefiting ARC Marion and MCBIA! Come sample some of the best wings in town offered by at least 20 restaurants\, enjoy music\, a wing eating competition\, be part of the voting for your favorite wing\, and much much more! \nLook whose already secured their spot and stayed for more entries! \nSonny’s\nMojo’s\nWing House\nBrick City Southern Kitchen\nGator’s Dockside\nThe Lodge\nTurnpike Mikes & Manhattan Gyros\nFor more information or to be a competitor or sponsor\, please contact Cheri 352-351-9048 ccraig@mcarc.com or Sue at Sue@mcbia.org.
URL:https://www.ocalastyle.com/event/annual-king-of-the-wing-cook-off/
LOCATION:Southeastern Livestock Pavilion\, 2232 N Jacksonville Rd\, Ocala\, FL\, 34470\, United States
ORGANIZER;CN="Marion%20County%20Building%20Industry%20Association":MAILTO:sue@mcbia.org
END:VEVENT
BEGIN:VEVENT
DTSTART;TZID=America/New_York:20190326T183000
DTEND;TZID=America/New_York:20190326T220000
DTSTAMP:20260421T224333
CREATED:20190312T151842Z
LAST-MODIFIED:20190312T151842Z
UID:9530-1553625000-1553637600@www.ocalastyle.com
SUMMARY:Euchre Tournament and Taco Tuesday
DESCRIPTION:Mojo’s Grill on 17th Street\, and the Banana Foodie\, invite you to the monthly charity Euchre game tournament. let’s make a northern past-time a southern tradition. Cost to play is 10 dollars person. 50% of the event proceeds will be donated to Feed the Need. The remaining 50% is returned to the players in 1st\, 2nd\, and (if possible) 3rd place. Do not know how to play? No worries! Enjoy Taco Tuesday\, be involved in raffles\, and enjoy a great night out supporting your community. Follow\, like and share thebananafoodie of Facebook for more details and events. Event starts at 7 pm and late entries are welcome.
URL:https://www.ocalastyle.com/event/euchre-tournament-and-taco-tuesday/
LOCATION:FL
ORGANIZER;CN="thebananafoodie":MAILTO:bb63mariner@yahoo.com
END:VEVENT
BEGIN:VEVENT
DTSTART;TZID=America/New_York:20190404T180000
DTEND;TZID=America/New_York:20190404T180000
DTSTAMP:20260421T224333
CREATED:20190301T143249Z
LAST-MODIFIED:20190301T143249Z
UID:9460-1554400800-1554400800@www.ocalastyle.com
SUMMARY:FOOD FOR THE SOUL BY CHEF ROSH
DESCRIPTION:Festival attendees will receive an email notification providing them the location two weeks before the event. \nTicketed events are all inclusive of food\, drinks & gratuity.\nEach Event is limited\, so get your tickets before they sell out fast! \nJoin award winning Chef Rosh as she travels to Ocala to serve up her unique Indian fusion style of cooking. \nIn 2009\, Roshni was awarded “Chopped Champion” on the hit Food Network show Chopped. In 2012\, Roshni was a contestant on the very popular FOX TV show Hell’s Kitchen with Michelin Star chef Gordon Ramsay. She was the only chef among 18 that Chef Ramsay addressed as a “passionate\, well-rounded chef that blended flavors magically.” In 2017 Roshni participated in the hit Food Network show Cut Throat Kitchen. In May of 2018 Chef Rosh competed on the popular show “Beat Bobby Flay”. Roshni is also an active member of “I’ll have what she’s having” a non-profit Chef driven organization supporting single mothers and healthcare plans. Chef Gurnani has also cooked at the James Beard House in New York with an all female team creating a 6 course vegetarian Indian inspired menu. \nApart from her traveling\, Chef Roshni has her own catering and consulting company\, as well as\, she is published cook book author. \nChef Rosh will be joined by the festival’s favorite mixologists\, Shelby Goelz and Brenda Terry\, who will be mixing libations to compliment Chef Rosh’s creative cuisine. \nAttire: Casual \nPARTICIPATING TALENT \nChef Roshni Gurnani\nChefRosh.com | Houston\, TX \nShelby Goelz\,\n2017 Ocala Culinary Festival Official Mixologist Monin | Tampa\, FL \nBrenda Terry\n2018 Ocala Culinary Festival Official Mixologist Tampa Yacht & Country Club | Tampa\, FL
URL:https://www.ocalastyle.com/event/food-for-the-soul-by-chef-rosh/
LOCATION:FL
ORGANIZER;CN="Ocala%20Culinary%20Festival":MAILTO:info@ocalaculinaryfestival.com
END:VEVENT
BEGIN:VEVENT
DTSTART;VALUE=DATE:20191026
DTEND;VALUE=DATE:20191027
DTSTAMP:20260421T224333
CREATED:20190225T201227Z
LAST-MODIFIED:20190225T201227Z
UID:8579-1572048000-1572134399@www.ocalastyle.com
SUMMARY:The 53rd Annual Ocala Arts Festival
DESCRIPTION:On the 4th Weekend in October\, The Ocala Art Festival comes to Downtown Ocala\, featuring outstanding artists\, wonderful music\, food trucks\, beer\, wine\, artwork from Marion County Students\, talented young people performing and some hands-on art activities\, all in a 2-day event.
URL:https://www.ocalastyle.com/event/the-53rd-annual-ocala-arts-festival/2019-10-26/
LOCATION:Downtown Ocala\, SE 1st Ave\, Ocala\, FL\, 34471\, United States
ORGANIZER;CN="Fine%20Arts%20For%20Ocala%2C%20FAFO":MAILTO:fafoocala@gmail.com
END:VEVENT
BEGIN:VEVENT
DTSTART;VALUE=DATE:20200220
DTEND;VALUE=DATE:20200224
DTSTAMP:20260421T224333
CREATED:20200129T143023Z
LAST-MODIFIED:20200129T143023Z
UID:22069-1582156800-1582502399@www.ocalastyle.com
SUMMARY:Trinity Catholic High School Winter Carnival
DESCRIPTION:This family-friendly annual community event features midway rides for all ages from whimsical kiddie rides to state-of-the-art thrill rides\, carnival games and favorite fair food. \nCarnival parking and admission are free. \nUnlimited ride wristbands (for riders 36 inches and taller) are $35 on site or $25 online before 2 pm Thurs.\, Feb. 20 at TrinityCatholicHS.org/carnival. \nAfter 6 pm on Saturday\, carnival-goers must purchase a ride wristband to enter or show proof of a pre-sale wristband purchase to be used that evening. \nRide tickets are also available at the carnival for $1.50 each\, $30 for 20 tickets\, or $60 for 50 tickets plus 1 free ride. (Rides take 2 or more tickets each.) \nVisit the website for coupon savings on rides and food. \nCarnival hours: 5-10 pm Thursday\, 5-11 pm Friday\, 11 am – 11 pm Saturday\, 11 am – 9 pm Sunday \nFor more information\, call 866-666-3247.
URL:https://www.ocalastyle.com/event/trinity-catholic-high-school-winter-carnival-2/
LOCATION:Trinity Catholic High School\, 2600 SW 42nd St\, Ocala\, FL\, 34471\, United States
ORGANIZER;CN="Trinity%20Catholic%20High%20School":MAILTO:dhartley@tchs.us
END:VEVENT
END:VCALENDAR