BEGIN:VCALENDAR
VERSION:2.0
PRODID:-//Ocala Style Magazine - ECPv6.0.8//NONSGML v1.0//EN
CALSCALE:GREGORIAN
METHOD:PUBLISH
X-WR-CALNAME:Ocala Style Magazine
X-ORIGINAL-URL:https://www.ocalastyle.com
X-WR-CALDESC:Events for Ocala Style Magazine
REFRESH-INTERVAL;VALUE=DURATION:PT1H
X-Robots-Tag:noindex
X-PUBLISHED-TTL:PT1H
BEGIN:VTIMEZONE
TZID:America/New_York
BEGIN:DAYLIGHT
TZOFFSETFROM:-0500
TZOFFSETTO:-0400
TZNAME:EDT
DTSTART:20190310T070000
END:DAYLIGHT
BEGIN:STANDARD
TZOFFSETFROM:-0400
TZOFFSETTO:-0500
TZNAME:EST
DTSTART:20191103T060000
END:STANDARD
END:VTIMEZONE
BEGIN:VEVENT
DTSTART;TZID=America/New_York:20190928T110000
DTEND;TZID=America/New_York:20190928T160000
DTSTAMP:20260419T131940
CREATED:20191122T201841Z
LAST-MODIFIED:20191122T201841Z
UID:13907-1569668400-1569686400@www.ocalastyle.com
SUMMARY:Fall Festival 2019
DESCRIPTION:Fall Festival\nThe Annual Fall Festival will be held at Lake Lillian in Belleview located on SE Robinson Rd. The Fall Festival will be held on September 28th\, 2019\, from 10 am to 3 pm.\nFestival-goers can meet and/or shop with many types of vendors\, including art and crafts\, business and food. Arts and crafts vendors will have displays that range from ceramics\, fiber\, wood\, leather and metalwork to jewelry\, and much more.\nThe youngsters won’t want to miss the Kid Zone\, featuring children’s activities including face painting\, inflatable fun\, and more! Hosted by the Belleview/South Marion Chamber of Commerce\, this admission-free\, family-friendly event features something for everyone. \nhttps://bsmcc.org/wp-content/uploads/2019/04/2019-Fall-Festival-Application.pdf \nWe look forward to seeing everyone.
URL:https://www.ocalastyle.com/event/fall-festival-2019-2/
LOCATION:Lake Lillian Neighborhood Historic District\, Belleview\, FL\, 34420\, United States
ORGANIZER;CN="Belleview%2FSouth%20Marion%20Chamber%20of%20Commerce":MAILTO:info@bsmcc.org
END:VEVENT
END:VCALENDAR