BEGIN:VCALENDAR
VERSION:2.0
PRODID:-//Ocala Style Magazine - ECPv6.0.8//NONSGML v1.0//EN
CALSCALE:GREGORIAN
METHOD:PUBLISH
X-WR-CALNAME:Ocala Style Magazine
X-ORIGINAL-URL:https://www.ocalastyle.com
X-WR-CALDESC:Events for Ocala Style Magazine
REFRESH-INTERVAL;VALUE=DURATION:PT1H
X-Robots-Tag:noindex
X-PUBLISHED-TTL:PT1H
BEGIN:VTIMEZONE
TZID:America/New_York
BEGIN:DAYLIGHT
TZOFFSETFROM:-0500
TZOFFSETTO:-0400
TZNAME:EDT
DTSTART:20200308T070000
END:DAYLIGHT
BEGIN:STANDARD
TZOFFSETFROM:-0400
TZOFFSETTO:-0500
TZNAME:EST
DTSTART:20201101T060000
END:STANDARD
END:VTIMEZONE
BEGIN:VEVENT
DTSTART;TZID=America/New_York:20200208T170000
DTEND;TZID=America/New_York:20200208T210000
DTSTAMP:20260422T070722
CREATED:20200116T181052Z
LAST-MODIFIED:20200116T181052Z
UID:18330-1581181200-1581195600@www.ocalastyle.com
SUMMARY:Farm to Table
DESCRIPTION:Florida Cancer Specialists Foundation 2nd annual Farm to Table. \nJoin the FCS Foundation for an evening in Ocala\, Florida. It’s farm-to-table experience with local fare\, entertainment\, auctions and more. All event proceeds provide non-medical financial assistance to cancer patients. \nCo-Chairs: Dr. Luis and Guisela Carrascosa and Dr. Sachin and Shelly Kamath
URL:https://www.ocalastyle.com/event/farm-to-table/
LOCATION:Castle Gate Farm\, 13009 South Highway 475\, Ocala\, Florida\, 34480\, United States
ORGANIZER;CN="Florida%20Cancer%20Specialists%20Foundation":MAILTO:events@flcancer.com
END:VEVENT
END:VCALENDAR