BEGIN:VCALENDAR
VERSION:2.0
PRODID:-//Ocala Style Magazine - ECPv6.0.8//NONSGML v1.0//EN
CALSCALE:GREGORIAN
METHOD:PUBLISH
X-ORIGINAL-URL:https://www.ocalastyle.com
X-WR-CALDESC:Events for Ocala Style Magazine
REFRESH-INTERVAL;VALUE=DURATION:PT1H
X-Robots-Tag:noindex
X-PUBLISHED-TTL:PT1H
BEGIN:VTIMEZONE
TZID:America/New_York
BEGIN:DAYLIGHT
TZOFFSETFROM:-0500
TZOFFSETTO:-0400
TZNAME:EDT
DTSTART:20200308T070000
END:DAYLIGHT
BEGIN:STANDARD
TZOFFSETFROM:-0400
TZOFFSETTO:-0500
TZNAME:EST
DTSTART:20201101T060000
END:STANDARD
END:VTIMEZONE
BEGIN:VEVENT
DTSTART;VALUE=DATE:20200208
DTEND;VALUE=DATE:20200209
DTSTAMP:20260422T085741
CREATED:20190919T190750Z
LAST-MODIFIED:20190926T174945Z
UID:15630-1581120000-1581206399@www.ocalastyle.com
SUMMARY:All Truck Season Opener Truck Show
DESCRIPTION:The 2020 All Truck Season Opener classic and custom truck show presented by Hypertech. Held at Don Garlits Museum of Drag Racing in Ocala Florida. All custom and classic trucks only. No cars\, bikes\, jeeps\, off-road trucks or paddle tires allowed. Meet Big Daddy Don Garlits! \n$25 Per Vehicle Registered\n$40 for one of 35 Premier Spots on Concrete\nNo Cost For General Admission!\nFirst 200 Registered Vehicles get a free ticket to the museum! \nSHOW CLASSES\nTOP 50 TRUCKS\nBEST OF SHOW\nBEST PAINT\nBEST INTERIOR\nBEST ENGINE\nBEST FEMALE OWNED TRUCK \nSPECIALTY CHOICE AWARDS\nBIG DADDY DON GARLITS CHOICE\nSTREET TRUCKS CHOICE\nC10 BUILDERS CHOICE\nF100 BUILDERS CHOICE\nOFFICIAL SPONSOR CHOICE \nSponsors\, Vendors and Volunteers please contact info@alltruckseasonopener.com \nThis is not a Street Trucks event. We are just sponsoring and covering the event.
URL:https://www.ocalastyle.com/event/all-truck-season-opener-truck-show/
LOCATION:Don Garlits Mesuem of Drag Racing\, 13700 SW 16th Ave\, Ocala\, Fl\, 34473\, United States
ORGANIZER;CN="Street%20Trucks%20Magazine":MAILTO:Chamilton@engagedmediainc.com
END:VEVENT
END:VCALENDAR