BEGIN:VCALENDAR
VERSION:2.0
PRODID:-//Ocala Style Magazine - ECPv6.0.8//NONSGML v1.0//EN
CALSCALE:GREGORIAN
METHOD:PUBLISH
X-ORIGINAL-URL:https://www.ocalastyle.com
X-WR-CALDESC:Events for Ocala Style Magazine
REFRESH-INTERVAL;VALUE=DURATION:PT1H
X-Robots-Tag:noindex
X-PUBLISHED-TTL:PT1H
BEGIN:VTIMEZONE
TZID:America/New_York
BEGIN:DAYLIGHT
TZOFFSETFROM:-0500
TZOFFSETTO:-0400
TZNAME:EDT
DTSTART:20190310T070000
END:DAYLIGHT
BEGIN:STANDARD
TZOFFSETFROM:-0400
TZOFFSETTO:-0500
TZNAME:EST
DTSTART:20191103T060000
END:STANDARD
END:VTIMEZONE
BEGIN:VEVENT
DTSTART;TZID=America/New_York:20190124T173000
DTEND;TZID=America/New_York:20190124T190000
DTSTAMP:20260422T020730
CREATED:20190121T165523Z
LAST-MODIFIED:20190121T165523Z
UID:8402-1548351000-1548356400@www.ocalastyle.com
SUMMARY:ARC Marion 2019 Art Exhibition - Opening Reception
DESCRIPTION:The City of Ocala Cultural Arts Division presents: “ARC Expressions”\, ARC Marion’s annual art exhibition. An opening reception will be held on Thursday\, Jan. 24 from 5:30 to 7:00 p.m. at City Hall Lobby. Beverages from Island Grove Wine Company and light hors d’oeuvres from Decadence a la carte Catering and Destination chef will be served. \nCelebrate ARC Marion\, Inc. program members with artwork created by individuals in the Adult Day Training program. The Advocacy Resource Center (ARC) of Marion County creates opportunities for persons with intellectual and developmental disabilities to live\, work and play to the fullest of their abilities. Adults in the Adult Day Training program have the opportunity to express themselves through art. Each piece is a unique reflection of the individual. \nExhibition will be on view through Mar. 26\, 2019 at City Hall (110 SE Watula Ave.\, Ocala\, FL. 34470). City Hall is open to the public Monday through Friday\, 8 a.m to 5 p.m.
URL:https://www.ocalastyle.com/event/arc-marion-2019-art-exhibition-opening-reception/
LOCATION:Ocala City Hall\, 151 SE Osceola Ave\, Ocala\, FL\, 34471\, United States
ATTACH;FMTTYPE=image/jpeg:https://www.ocalastyle.com/wp-content/uploads/2019/01/49384920_2602354093138204_580960761338134528_o.jpg
ORGANIZER;CN="Ocala%20Cultural%20Arts":MAILTO:artwalk@ocalafl.org
END:VEVENT
BEGIN:VEVENT
DTSTART;TZID=America/New_York:20190222T173000
DTEND;TZID=America/New_York:20190222T210000
DTSTAMP:20260422T020730
CREATED:20190208T214048Z
LAST-MODIFIED:20190208T214048Z
UID:8406-1550856600-1550869200@www.ocalastyle.com
SUMMARY:Art Outside the Lines (with concert by Ben Sollee)
DESCRIPTION:The City of Ocala presents Art Outside the Lines\, an opportunity to celebrate and support public art in Ocala.  \nFrom 5:30 to 7 p.m. First\, stop by Ocala City Hall for light refreshments and to pick up your downtown public art map.  Visit our city’s public art with a self-guided walking tour through Ocala’s historic downtown\, stopping to learn about each piece from the artists or docents. \n7 to 9 p.m. – Join us at the Tuscawilla Art Park at 213 NE 5th Street\, to enjoy a concert under the stars featuring cellist and composer Ben Sollee. Guests of Outside the Lines will have admission to a special VIP tent with additional seating\, complementary appetizers\, and a cash bar.  (Admission to the concert is included with your Art Outside the Lines ticket).  \nABOUT BEN SOLLEE\nKentucky-born cellist and composer Ben Sollee likes to keep moving. Over the six years following the release of his debut record\, Learning to Bend\, Sollee and his rugged cello\, Kay\, told an unconventional story. Seeking a deeper connection to communities on the road\, Ben packed his touring life on to his bicycle in 2009. Since then he has ridden over 4\,000 miles! He has been invited to perform and speak on sustainability at a number of festivals including South by Southwest Music (2011) and TEDx San Diego (2012).  Ben’s music can be heard in film and on TV. For more information\, visit http://www.bensollee.com.  \nFor questions and information\, please visit www.ocalafl.org/performingarts or contact Ocala Cultural Arts at artinfo@ocalafl.org or 352-629-8447. \nFollow us on Facebook and Instagram @ocalaculturalarts
URL:https://www.ocalastyle.com/event/art-outside-the-lines-with-concert-by-ben-sollee/
LOCATION:Ocala City Hall\, 151 SE Osceola Ave\, Ocala\, FL\, 34471\, United States
ORGANIZER;CN="Ocala%20Cultural%20Arts":MAILTO:artwalk@ocalafl.org
END:VEVENT
END:VCALENDAR